BEGIN:VCALENDAR
VERSION:2.0
PRODID:-//Compassion &amp; Resiliency Experience (C.A.R.E.) Program - ECPv6.15.19//NONSGML v1.0//EN
CALSCALE:GREGORIAN
METHOD:PUBLISH
X-ORIGINAL-URL:https://wellness.cooperhealth.org
X-WR-CALDESC:Events for Compassion &amp; Resiliency Experience (C.A.R.E.) Program
REFRESH-INTERVAL;VALUE=DURATION:PT1H
X-Robots-Tag:noindex
X-PUBLISHED-TTL:PT1H
BEGIN:VTIMEZONE
TZID:America/New_York
BEGIN:DAYLIGHT
TZOFFSETFROM:-0500
TZOFFSETTO:-0400
TZNAME:EDT
DTSTART:20220313T070000
END:DAYLIGHT
BEGIN:STANDARD
TZOFFSETFROM:-0400
TZOFFSETTO:-0500
TZNAME:EST
DTSTART:20221106T060000
END:STANDARD
BEGIN:DAYLIGHT
TZOFFSETFROM:-0500
TZOFFSETTO:-0400
TZNAME:EDT
DTSTART:20230312T070000
END:DAYLIGHT
BEGIN:STANDARD
TZOFFSETFROM:-0400
TZOFFSETTO:-0500
TZNAME:EST
DTSTART:20231105T060000
END:STANDARD
BEGIN:DAYLIGHT
TZOFFSETFROM:-0500
TZOFFSETTO:-0400
TZNAME:EDT
DTSTART:20240310T070000
END:DAYLIGHT
BEGIN:STANDARD
TZOFFSETFROM:-0400
TZOFFSETTO:-0500
TZNAME:EST
DTSTART:20241103T060000
END:STANDARD
END:VTIMEZONE
BEGIN:VEVENT
DTSTART;TZID=America/New_York:20231130T130000
DTEND;TZID=America/New_York:20231130T133000
DTSTAMP:20260422T163100
CREATED:20231027T135401Z
LAST-MODIFIED:20231027T135539Z
UID:4394-1701349200-1701351000@wellness.cooperhealth.org
SUMMARY:Carebridge: Caregiving Check-In: Mindfulness Practices for Caregivers
DESCRIPTION:Join this experiential session to take a break from the worries and stresses of caregiving. Reduce negative self-judgment and experience self-compassion. Reap the benefits of being intentional in your care for your\nloved one and for yourself. Participation is anonymous. \nVirtual support groups are 30-minute group check-ins held monthly on a topic related to Stress\, Caregiving\, Parenting\, or Grief. Each discussion is led by an expert. Registration link may be used to access recording of live event. \nVisit November Carebridge Sessions – Weekly Rounds (cooperhealth.org) for more information and to register.
URL:https://wellness.cooperhealth.org/event/carebridge-caregiving-check-in-mindfulness-practices-for-caregivers/
LOCATION:Virtual Support Group
CATEGORIES:Carebridge
END:VEVENT
END:VCALENDAR