BEGIN:VCALENDAR
VERSION:2.0
PRODID:-//Compassion &amp; Resiliency Experience (C.A.R.E.) Program - ECPv6.15.19//NONSGML v1.0//EN
CALSCALE:GREGORIAN
METHOD:PUBLISH
X-ORIGINAL-URL:https://wellness.cooperhealth.org
X-WR-CALDESC:Events for Compassion &amp; Resiliency Experience (C.A.R.E.) Program
REFRESH-INTERVAL;VALUE=DURATION:PT1H
X-Robots-Tag:noindex
X-PUBLISHED-TTL:PT1H
BEGIN:VTIMEZONE
TZID:America/New_York
BEGIN:DAYLIGHT
TZOFFSETFROM:-0500
TZOFFSETTO:-0400
TZNAME:EDT
DTSTART:20250309T070000
END:DAYLIGHT
BEGIN:STANDARD
TZOFFSETFROM:-0400
TZOFFSETTO:-0500
TZNAME:EST
DTSTART:20251102T060000
END:STANDARD
BEGIN:DAYLIGHT
TZOFFSETFROM:-0500
TZOFFSETTO:-0400
TZNAME:EDT
DTSTART:20260308T070000
END:DAYLIGHT
BEGIN:STANDARD
TZOFFSETFROM:-0400
TZOFFSETTO:-0500
TZNAME:EST
DTSTART:20261101T060000
END:STANDARD
BEGIN:DAYLIGHT
TZOFFSETFROM:-0500
TZOFFSETTO:-0400
TZNAME:EDT
DTSTART:20270314T070000
END:DAYLIGHT
BEGIN:STANDARD
TZOFFSETFROM:-0400
TZOFFSETTO:-0500
TZNAME:EST
DTSTART:20271107T060000
END:STANDARD
END:VTIMEZONE
BEGIN:VEVENT
DTSTART;VALUE=DATE:20260201
DTEND;VALUE=DATE:20260301
DTSTAMP:20260421T100638
CREATED:20260202T153748Z
LAST-MODIFIED:20260202T153748Z
UID:6497-1769904000-1772323199@wellness.cooperhealth.org
SUMMARY:Random Acts of Kindness Month
DESCRIPTION:It’s our 5th annual Random Acts of Kindness Month at Cooper!\nTo request coins\, click the link below to access the request form:\n2026 Kindness Coin Request Form \n\n\n\n\n\n\n\n\n\n\n\n\nKindness Coins\nAs part of this initiative\, the C.A.R.E. Team is acknowledging team members who engage in acts of kindness and compassion with a Kindness Coin – a small but meaningful symbol of appreciation. \nTeam members who wish to participate can complete the request form (link above) to request a bag of kindness coins. Please be sure to include your name and address. A bag of 3–5 Kindness Coins will be sent via inter-office mail or delivered to your location for those at the main hospital. \nTo support safety and infection prevention\, please practice good hand hygiene and use hand sanitizer before sharing coins.
URL:https://wellness.cooperhealth.org/event/random-acts-of-kindness-month/
END:VEVENT
END:VCALENDAR